BEGIN:VCALENDAR
VERSION:2.0
PRODID:-//314 Beer Garden - ECPv6.15.20//NONSGML v1.0//EN
CALSCALE:GREGORIAN
METHOD:PUBLISH
X-WR-CALNAME:314 Beer Garden
X-ORIGINAL-URL:https://314beergarden.com
X-WR-CALDESC:Events for 314 Beer Garden
REFRESH-INTERVAL;VALUE=DURATION:PT1H
X-Robots-Tag:noindex
X-PUBLISHED-TTL:PT1H
BEGIN:VTIMEZONE
TZID:America/New_York
BEGIN:DAYLIGHT
TZOFFSETFROM:-0500
TZOFFSETTO:-0400
TZNAME:EDT
DTSTART:20250309T070000
END:DAYLIGHT
BEGIN:STANDARD
TZOFFSETFROM:-0400
TZOFFSETTO:-0500
TZNAME:EST
DTSTART:20251102T060000
END:STANDARD
BEGIN:DAYLIGHT
TZOFFSETFROM:-0500
TZOFFSETTO:-0400
TZNAME:EDT
DTSTART:20260308T070000
END:DAYLIGHT
BEGIN:STANDARD
TZOFFSETFROM:-0400
TZOFFSETTO:-0500
TZNAME:EST
DTSTART:20261101T060000
END:STANDARD
BEGIN:DAYLIGHT
TZOFFSETFROM:-0500
TZOFFSETTO:-0400
TZNAME:EDT
DTSTART:20270314T070000
END:DAYLIGHT
BEGIN:STANDARD
TZOFFSETFROM:-0400
TZOFFSETTO:-0500
TZNAME:EST
DTSTART:20271107T060000
END:STANDARD
END:VTIMEZONE
BEGIN:VEVENT
DTSTART;TZID=America/New_York:20260326T180000
DTEND;TZID=America/New_York:20260326T210000
DTSTAMP:20260422T041707
CREATED:20260302T185501Z
LAST-MODIFIED:20260302T185501Z
UID:15809-1774548000-1774558800@314beergarden.com
SUMMARY:Piece by Piece - A 500 Piece Puzzle Competition
DESCRIPTION:Piece by Piece is taking over 314 again on Thursday 3/26/26. Grab your sharpest friends and get ready for a 500-piece puzzle competition where every team gets the exact same puzzle and the clock is very real. \nTeams are 4 players only this time\, with about 1–3 hours to finish. Entry is $60 for a team of 4\, and includes one drink per person because puzzles are better with beverages. Fastest team to finish takes the win. The tables will be equipped with a small table lamp so you can see better. \nPrizes are no joke: first place scores $250 in gift cards (split between the team)\, second gets $100\, and third takes home $50. Whether you are here to dominate or just aggressively debate edge pieces\, expect competitive energy\, good drinks\, and all the 314 vibes. \nTicket Link: https://www.eventbrite.com/e/piece-by-piece-tickets-1984297806154?aff=oddtdtcreator&keep_tld=true \n 
URL:https://314beergarden.com/event/piece-by-piece-a-500-piece-puzzle-competition-2/
LOCATION:314 Beer Garden\, 314 Wilson Ave.\, Norwalk\, CT\, 06854\, United States
CATEGORIES:Special Events,Trivia and Games
ATTACH;FMTTYPE=image/png:https://314beergarden.com/wp-content/uploads/2026/03/PIECE-BY-PIECE-PUZZLE.png
END:VEVENT
BEGIN:VEVENT
DTSTART;TZID=America/New_York:20260328T120000
DTEND;TZID=America/New_York:20260328T150000
DTSTAMP:20260422T041707
CREATED:20260302T172046Z
LAST-MODIFIED:20260323T124343Z
UID:15803-1774699200-1774710000@314beergarden.com
SUMMARY:Kid's Piece by Piece: A 250 Piece Kid's Puzzle Throwdown
DESCRIPTION:Kids\, it’s your time to piece it together. \nJoin us at 314 Beer Garden on Saturday\, March 28th from 12PM to 3PM for our Kid’s Piece by Piece Puzzle competition\, sponsored by Captain Zig. This high energy showdown is designed for ages 7 to 12 and features teams of four racing to complete a 250 piece puzzle. It’s all about teamwork\, focus\, and a little friendly competition. \nThis event is free to enter\, and we’ll have prizes for the top teams. Gather your crew\, bring your game face\, and get ready to think fast and fit those pieces together. \nRegister your child’s team here \nWe’re located at 314 Wilson Ave in Norwalk. Sign up your team and let’s see who can solve it first.
URL:https://314beergarden.com/event/kids-piece-by-piece-a-250-piece-kids-puzzle-throwdown-314-beer-garden-south-norwalk/
LOCATION:314 Beer Garden\, 314 Wilson Ave.\, Norwalk\, CT\, 06854\, United States
CATEGORIES:Special Events,Trivia and Games
ATTACH;FMTTYPE=image/png:https://314beergarden.com/wp-content/uploads/2026/03/KIDS-PIECE-BY-PIECE-PUZZLE.png
END:VEVENT
BEGIN:VEVENT
DTSTART;TZID=America/New_York:20260329T120000
DTEND;TZID=America/New_York:20260329T143000
DTSTAMP:20260422T041707
CREATED:20260302T150426Z
LAST-MODIFIED:20260303T152631Z
UID:15800-1774785600-1774794600@314beergarden.com
SUMMARY:Mahj & Mimosas | Mahjong at 314 Beer Garden | South Norwalk
DESCRIPTION:Join us for Mahj & Mimosas with Tiles With Tiffany on Sunday\, March 29\, 2026 at 314 Beer Garden in Norwalk\, CT for a lively afternoon of mahjong\, bottomless mimosas\, and light bite brunch. The event runs from 12:00pm to 2:30pm\, with play beginning at 12:30pm\, giving you plenty of time to settle in\, grab a drink\, and get ready to hit the tables. \nWhether you are brand new to the game or a seasoned player\, there is a seat for you. Our Mahjong 101 tables are perfect for beginners who want to learn the basics\, play with friends\, and meet new people in a fun\, welcoming environment. Open Play tables will be available for experienced players and are first come\, first serve\, with beginner tables clearly designated. An official 2025 NMJL card is required to play. A limited number of cards will be provided at 101 tables and will also be available for purchase. \nAll tiles\, racks\, mats\, lamps\, and teaching materials will be provided\, so just bring yourself and your game face. Tickets are $75 per person for all levels and includes bottomless mimosas\, bellinis\, and bloodys\, as well as a light bite brunch. \nTo reserve your spot\, Venmo @TiffanyRabeDilorio (3452) and note the event date in your payment. Spots are limited\, so grab your seat and get ready for a Sunday filled with tiles\, toasts\, and good vibes at 314.
URL:https://314beergarden.com/event/mahj-mimosas-mahjong-at-314-beer-garden-south-norwalk/
LOCATION:314 Beer Garden\, 314 Wilson Ave.\, Norwalk\, CT\, 06854\, United States
CATEGORIES:Special Events,Trivia and Games
ATTACH;FMTTYPE=image/png:https://314beergarden.com/wp-content/uploads/2026/03/Mahj-and-Mimosas-10.png
END:VEVENT
BEGIN:VEVENT
DTSTART;TZID=America/New_York:20260401T190000
DTEND;TZID=America/New_York:20260401T210000
DTSTAMP:20260422T041707
CREATED:20260310T204624Z
LAST-MODIFIED:20260310T204624Z
UID:15889-1775070000-1775077200@314beergarden.com
SUMMARY:314 Trivia hosted by BTE
DESCRIPTION:Join us every Wednesday night starting at 7pm for 314 Trivia hosted by Best Trivia Ever. \nEat\, Drink and Think! Entry is free! \nBring your friends – Teams up to 6 players. \nWinners receive 314 swag\, gift cards\, or other awesome prizes! \n  \n 
URL:https://314beergarden.com/event/314-trivia-hosted-by-bte-173/
LOCATION:314 Beer Garden\, 314 Wilson Ave.\, Norwalk\, CT\, 06854\, United States
CATEGORIES:Trivia and Games
ATTACH;FMTTYPE=image/png:https://314beergarden.com/wp-content/uploads/2022/09/Trivia-Facebook-Event-Cover.png
END:VEVENT
BEGIN:VEVENT
DTSTART;TZID=America/New_York:20260408T190000
DTEND;TZID=America/New_York:20260408T210000
DTSTAMP:20260422T041707
CREATED:20260310T204737Z
LAST-MODIFIED:20260310T204737Z
UID:15891-1775674800-1775682000@314beergarden.com
SUMMARY:314 Trivia hosted by BTE
DESCRIPTION:Join us every Wednesday night starting at 7pm for 314 Trivia hosted by Best Trivia Ever. \nEat\, Drink and Think! Entry is free! \nBring your friends – Teams up to 6 players. \nWinners receive 314 swag\, gift cards\, or other awesome prizes! \n  \n 
URL:https://314beergarden.com/event/314-trivia-hosted-by-bte-174/
LOCATION:314 Beer Garden\, 314 Wilson Ave.\, Norwalk\, CT\, 06854\, United States
CATEGORIES:Trivia and Games
ATTACH;FMTTYPE=image/png:https://314beergarden.com/wp-content/uploads/2022/09/Trivia-Facebook-Event-Cover-2.png
END:VEVENT
BEGIN:VEVENT
DTSTART;TZID=America/New_York:20260422T190000
DTEND;TZID=America/New_York:20260422T210000
DTSTAMP:20260422T041707
CREATED:20260310T204943Z
LAST-MODIFIED:20260310T204943Z
UID:15896-1776884400-1776891600@314beergarden.com
SUMMARY:314 Trivia hosted by BTE
DESCRIPTION:Join us every Wednesday night starting at 7pm for 314 Trivia hosted by Best Trivia Ever. \nEat\, Drink and Think! Entry is free! \nBring your friends – Teams up to 6 players. \nWinners receive 314 swag\, gift cards\, or other awesome prizes! \n  \n 
URL:https://314beergarden.com/event/314-trivia-hosted-by-bte-176/
LOCATION:314 Beer Garden\, 314 Wilson Ave.\, Norwalk\, CT\, 06854\, United States
CATEGORIES:Trivia and Games
ATTACH;FMTTYPE=image/png:https://314beergarden.com/wp-content/uploads/2022/09/Trivia-Facebook-Event-Cover-2.png
END:VEVENT
BEGIN:VEVENT
DTSTART;TZID=America/New_York:20260506T190000
DTEND;TZID=America/New_York:20260506T210000
DTSTAMP:20260422T041707
CREATED:20260310T204859Z
LAST-MODIFIED:20260310T205039Z
UID:15894-1778094000-1778101200@314beergarden.com
SUMMARY:314 Trivia hosted by BTE
DESCRIPTION:Join us every Wednesday night starting at 7pm for 314 Trivia hosted by Best Trivia Ever. \nEat\, Drink and Think! Entry is free! \nBring your friends – Teams up to 6 players. \nWinners receive 314 swag\, gift cards\, or other awesome prizes! \n  \n 
URL:https://314beergarden.com/event/314-trivia-hosted-by-bte-175/
LOCATION:314 Beer Garden\, 314 Wilson Ave.\, Norwalk\, CT\, 06854\, United States
CATEGORIES:Trivia and Games
ATTACH;FMTTYPE=image/png:https://314beergarden.com/wp-content/uploads/2022/09/Trivia-Facebook-Event-Cover.png
END:VEVENT
BEGIN:VEVENT
DTSTART;TZID=America/New_York:20260510T120000
DTEND;TZID=America/New_York:20260510T143000
DTSTAMP:20260422T041707
CREATED:20260410T133737Z
LAST-MODIFIED:20260412T114743Z
UID:15972-1778414400-1778423400@314beergarden.com
SUMMARY:Mothers\, Mahj\, & Mimosas | Mahjong at 314 Beer Garden | South Norwalk
DESCRIPTION:Join us for Mothers\, Mahj\, & Mimosas with Tiles With Tiffany on Sunday\, May 10\, 2026 at 314 Beer Garden in Norwalk\, CT for a lively afternoon of mahjong\, bottomless mimosas\, and light bite brunch. The event runs from 12:00pm to 2:30pm\, with play beginning at 12:30pm\, giving you plenty of time to settle in\, grab a drink\, and get ready to hit the tables. \nAn official 2026 NMJL card is required to play. \nAll tiles\, racks\, mats\, lamps\, and teaching materials will be provided\, so just bring yourself and your game face. Tickets are $75 per person for all levels and includes bottomless mimosas\, bellinis\, and bloodys\, as well as a light bite brunch. \nTo reserve your spot\, Venmo @TiffanyRabeDilorio (3452) and note the event date in your payment. Spots are limited\, so grab your seat and get ready for a Sunday filled with tiles\, toasts\, and good vibes at 314.
URL:https://314beergarden.com/event/mothers-mahj-mimosas-mahjong-at-314-beer-garden-south-norwalk/
LOCATION:314 Beer Garden\, 314 Wilson Ave.\, Norwalk\, CT\, 06854\, United States
CATEGORIES:Special Events,Trivia and Games
ATTACH;FMTTYPE=image/png:https://314beergarden.com/wp-content/uploads/2026/04/Mothers-Mahj-and-Mimosas.png
END:VEVENT
END:VCALENDAR