BEGIN:VCALENDAR
VERSION:2.0
PRODID:-//314 Beer Garden - ECPv6.15.20//NONSGML v1.0//EN
CALSCALE:GREGORIAN
METHOD:PUBLISH
X-ORIGINAL-URL:https://314beergarden.com
X-WR-CALDESC:Events for 314 Beer Garden
REFRESH-INTERVAL;VALUE=DURATION:PT1H
X-Robots-Tag:noindex
X-PUBLISHED-TTL:PT1H
BEGIN:VTIMEZONE
TZID:America/New_York
BEGIN:DAYLIGHT
TZOFFSETFROM:-0500
TZOFFSETTO:-0400
TZNAME:EDT
DTSTART:20250309T070000
END:DAYLIGHT
BEGIN:STANDARD
TZOFFSETFROM:-0400
TZOFFSETTO:-0500
TZNAME:EST
DTSTART:20251102T060000
END:STANDARD
BEGIN:DAYLIGHT
TZOFFSETFROM:-0500
TZOFFSETTO:-0400
TZNAME:EDT
DTSTART:20260308T070000
END:DAYLIGHT
BEGIN:STANDARD
TZOFFSETFROM:-0400
TZOFFSETTO:-0500
TZNAME:EST
DTSTART:20261101T060000
END:STANDARD
BEGIN:DAYLIGHT
TZOFFSETFROM:-0500
TZOFFSETTO:-0400
TZNAME:EDT
DTSTART:20270314T070000
END:DAYLIGHT
BEGIN:STANDARD
TZOFFSETFROM:-0400
TZOFFSETTO:-0500
TZNAME:EST
DTSTART:20271107T060000
END:STANDARD
END:VTIMEZONE
BEGIN:VEVENT
DTSTART;TZID=America/New_York:20260505T180000
DTEND;TZID=America/New_York:20260505T193000
DTSTAMP:20260422T185850
CREATED:20260416T141331Z
LAST-MODIFIED:20260416T141428Z
UID:15989-1778004000-1778009400@314beergarden.com
SUMMARY:Design and Create a Succulent Terrarium | South Norwalk
DESCRIPTION:Sip\, design and create something beautiful as you create a succulent terrarium\, a living world under glass! \nJoin us on May 5th at 6pm for a creative\, hands-on succulent terrarium workshop in the fun\, laid-back setting of 314 Beer Garden. You’ll design and create your own living world\, using a curated selection of succulents\, natural botanical elements\, and layered materials. \nYour experience includes your first pour\, the perfect complement to an evening of creativity and connection. You will be guided step-by-step through the design process\, sharing styling techniques and simple care tips so your terrarium continues to thrive long after the workshop. \nTickets: $55 \nTicket Link: https://www.imaginariumsbyelissa.com/event-details/design-and-create-a-succulent-terrarium-2 \nCome unwind\, create\, and enjoy a beautiful\, plant-filled experience. \n 
URL:https://314beergarden.com/event/design-and-create-a-succulent-terrarium-south-norwalk/
LOCATION:314 Beer Garden\, 314 Wilson Ave.\, Norwalk\, CT\, 06854\, United States
CATEGORIES:Special Events
ATTACH;FMTTYPE=image/png:https://314beergarden.com/wp-content/uploads/2026/04/Succulents.png
END:VEVENT
BEGIN:VEVENT
DTSTART;TZID=America/New_York:20260507T190000
DTEND;TZID=America/New_York:20260507T220000
DTSTAMP:20260422T185850
CREATED:20260309T160518Z
LAST-MODIFIED:20260309T160518Z
UID:15832-1778180400-1778191200@314beergarden.com
SUMMARY:Karaoke with George | 314 Beer Garden | Norwalk\, CT
DESCRIPTION:Our very own lyrical gangsta is grabbing the mic and you’re not gonna want to miss it. \nKaraoke With George hits the 314 stage every first Thursday of the month from 7p to 10p. \nSing with him\, sing to him\, or just sit back and hear the legend himself do his thing. \nBasically\, it’s George’s world and we’re all just singing in it.
URL:https://314beergarden.com/event/karaoke-with-george-314-beer-garden-norwalk-ct-2/
LOCATION:314 Beer Garden\, 314 Wilson Ave.\, Norwalk\, CT\, 06854\, United States
CATEGORIES:Special Events
ATTACH;FMTTYPE=image/png:https://314beergarden.com/wp-content/uploads/2026/03/Karaoke-with-George-1920-x-1080-px-2.png
END:VEVENT
BEGIN:VEVENT
DTSTART;TZID=America/New_York:20260510T120000
DTEND;TZID=America/New_York:20260510T143000
DTSTAMP:20260422T185850
CREATED:20260410T133737Z
LAST-MODIFIED:20260412T114743Z
UID:15972-1778414400-1778423400@314beergarden.com
SUMMARY:Mothers\, Mahj\, & Mimosas | Mahjong at 314 Beer Garden | South Norwalk
DESCRIPTION:Join us for Mothers\, Mahj\, & Mimosas with Tiles With Tiffany on Sunday\, May 10\, 2026 at 314 Beer Garden in Norwalk\, CT for a lively afternoon of mahjong\, bottomless mimosas\, and light bite brunch. The event runs from 12:00pm to 2:30pm\, with play beginning at 12:30pm\, giving you plenty of time to settle in\, grab a drink\, and get ready to hit the tables. \nAn official 2026 NMJL card is required to play. \nAll tiles\, racks\, mats\, lamps\, and teaching materials will be provided\, so just bring yourself and your game face. Tickets are $75 per person for all levels and includes bottomless mimosas\, bellinis\, and bloodys\, as well as a light bite brunch. \nTo reserve your spot\, Venmo @TiffanyRabeDilorio (3452) and note the event date in your payment. Spots are limited\, so grab your seat and get ready for a Sunday filled with tiles\, toasts\, and good vibes at 314.
URL:https://314beergarden.com/event/mothers-mahj-mimosas-mahjong-at-314-beer-garden-south-norwalk/
LOCATION:314 Beer Garden\, 314 Wilson Ave.\, Norwalk\, CT\, 06854\, United States
CATEGORIES:Special Events,Trivia and Games
ATTACH;FMTTYPE=image/png:https://314beergarden.com/wp-content/uploads/2026/04/Mothers-Mahj-and-Mimosas.png
END:VEVENT
BEGIN:VEVENT
DTSTART;TZID=America/New_York:20260514T190000
DTEND;TZID=America/New_York:20260514T220000
DTSTAMP:20260422T185850
CREATED:20260309T162144Z
LAST-MODIFIED:20260309T162144Z
UID:15844-1778785200-1778796000@314beergarden.com
SUMMARY:Boots & Beats Line Dancing | 314 Beer Garden | Norwalk\, CT
DESCRIPTION:   \nBoots & Beats Line Dancing is taking over the dance floor every second Thursday of the month from 7p–10p. \nWe’ll kick things off with beginner-friendly instruction from Kaylee while Beats by Matt keep the floor moving. Learn the steps\, dance it out\, repeat all night. \nNo cover. No experience needed. Just show up\, grab a drink\, and jump in when you’re ready.
URL:https://314beergarden.com/event/boots-beats-line-dancing-314-beer-garden-norwalk-ct-2/
LOCATION:314 Beer Garden\, 314 Wilson Ave.\, Norwalk\, CT\, 06854\, United States
CATEGORIES:DJ,Special Events
ATTACH;FMTTYPE=image/png:https://314beergarden.com/wp-content/uploads/2026/03/Boots-Beats-1920-x-1080-px-4.png
END:VEVENT
BEGIN:VEVENT
DTSTART;TZID=America/New_York:20260604T190000
DTEND;TZID=America/New_York:20260604T220000
DTSTAMP:20260422T185850
CREATED:20260309T160636Z
LAST-MODIFIED:20260309T160636Z
UID:15836-1780599600-1780610400@314beergarden.com
SUMMARY:Karaoke with George | 314 Beer Garden | Norwalk\, CT
DESCRIPTION:Our very own lyrical gangsta is grabbing the mic and you’re not gonna want to miss it. \nKaraoke With George hits the 314 stage every first Thursday of the month from 7p to 10p. \nSing with him\, sing to him\, or just sit back and hear the legend himself do his thing. \nBasically\, it’s George’s world and we’re all just singing in it.
URL:https://314beergarden.com/event/karaoke-with-george-314-beer-garden-norwalk-ct-3/
LOCATION:314 Beer Garden\, 314 Wilson Ave.\, Norwalk\, CT\, 06854\, United States
CATEGORIES:Special Events
ATTACH;FMTTYPE=image/png:https://314beergarden.com/wp-content/uploads/2026/03/Karaoke-with-George-1920-x-1080-px-3-1.png
END:VEVENT
BEGIN:VEVENT
DTSTART;TZID=America/New_York:20260611T190000
DTEND;TZID=America/New_York:20260611T220000
DTSTAMP:20260422T185850
CREATED:20260309T162247Z
LAST-MODIFIED:20260309T162247Z
UID:15849-1781204400-1781215200@314beergarden.com
SUMMARY:Boots & Beats Line Dancing | 314 Beer Garden | Norwalk\, CT
DESCRIPTION:   \nBoots & Beats Line Dancing is taking over the dance floor every second Thursday of the month from 7p–10p. \nWe’ll kick things off with beginner-friendly instruction from Kaylee while Beats by Matt keep the floor moving. Learn the steps\, dance it out\, repeat all night. \nNo cover. No experience needed. Just show up\, grab a drink\, and jump in when you’re ready.
URL:https://314beergarden.com/event/boots-beats-line-dancing-314-beer-garden-norwalk-ct-3/
LOCATION:314 Beer Garden\, 314 Wilson Ave.\, Norwalk\, CT\, 06854\, United States
CATEGORIES:DJ,Special Events
ATTACH;FMTTYPE=image/png:https://314beergarden.com/wp-content/uploads/2026/03/Boots-Beats-1920-x-1080-px-5.png
END:VEVENT
END:VCALENDAR