BEGIN:VCALENDAR
VERSION:2.0
PRODID:-//314 Beer Garden - ECPv6.15.20//NONSGML v1.0//EN
CALSCALE:GREGORIAN
METHOD:PUBLISH
X-WR-CALNAME:314 Beer Garden
X-ORIGINAL-URL:https://314beergarden.com
X-WR-CALDESC:Events for 314 Beer Garden
REFRESH-INTERVAL;VALUE=DURATION:PT1H
X-Robots-Tag:noindex
X-PUBLISHED-TTL:PT1H
BEGIN:VTIMEZONE
TZID:America/New_York
BEGIN:DAYLIGHT
TZOFFSETFROM:-0500
TZOFFSETTO:-0400
TZNAME:EDT
DTSTART:20250309T070000
END:DAYLIGHT
BEGIN:STANDARD
TZOFFSETFROM:-0400
TZOFFSETTO:-0500
TZNAME:EST
DTSTART:20251102T060000
END:STANDARD
BEGIN:DAYLIGHT
TZOFFSETFROM:-0500
TZOFFSETTO:-0400
TZNAME:EDT
DTSTART:20260308T070000
END:DAYLIGHT
BEGIN:STANDARD
TZOFFSETFROM:-0400
TZOFFSETTO:-0500
TZNAME:EST
DTSTART:20261101T060000
END:STANDARD
BEGIN:DAYLIGHT
TZOFFSETFROM:-0500
TZOFFSETTO:-0400
TZNAME:EDT
DTSTART:20270314T070000
END:DAYLIGHT
BEGIN:STANDARD
TZOFFSETFROM:-0400
TZOFFSETTO:-0500
TZNAME:EST
DTSTART:20271107T060000
END:STANDARD
END:VTIMEZONE
BEGIN:VEVENT
DTSTART;TZID=America/New_York:20260502T120000
DTEND;TZID=America/New_York:20260502T230000
DTSTAMP:20260421T194609
CREATED:20260402T154338Z
LAST-MODIFIED:20260403T160019Z
UID:15933-1777723200-1777762800@314beergarden.com
SUMMARY:Kentucky Derby Day Party with Billy G and Friends
DESCRIPTION:We’re celebrating the Kentucky Derby the only way that makes sense… With hobby horses. \nSaturday\, May 2nd at 314. \n3p-6:30p\nBilly G & Friends live \n6:57p\nThe race. Pick a horse. Pretend you know what you’re doing. \n7p-11p\nDJ Erica \n7:30p\nHobby Horse Showdown\nHop on a hobby horse and give us your best run on stage. Full performance only. Sprints\, spins\, jumps\, dramatic finishes\, crowd work. You’ve got 10 seconds to make it count. Style matters. Commitment matters more. Best moves wins a $50 gift card + a rose victory moment you will absolutely take too seriously. \nNo jockey experience required.\nJust ego\, energy\, and zero shame.
URL:https://314beergarden.com/event/kentucky-derby-day-party-with-billy-g-and-friends/
LOCATION:314 Beer Garden\, 314 Wilson Ave.\, Norwalk\, CT\, 06854\, United States
CATEGORIES:Bands,Special Events
ATTACH;FMTTYPE=image/png:https://314beergarden.com/wp-content/uploads/2026/04/Derby-Day-2.png
END:VEVENT
END:VCALENDAR