BEGIN:VCALENDAR
VERSION:2.0
PRODID:-//314 Beer Garden - ECPv6.15.20//NONSGML v1.0//EN
CALSCALE:GREGORIAN
METHOD:PUBLISH
X-WR-CALNAME:314 Beer Garden
X-ORIGINAL-URL:https://314beergarden.com
X-WR-CALDESC:Events for 314 Beer Garden
REFRESH-INTERVAL;VALUE=DURATION:PT1H
X-Robots-Tag:noindex
X-PUBLISHED-TTL:PT1H
BEGIN:VTIMEZONE
TZID:America/New_York
BEGIN:DAYLIGHT
TZOFFSETFROM:-0500
TZOFFSETTO:-0400
TZNAME:EDT
DTSTART:20250309T070000
END:DAYLIGHT
BEGIN:STANDARD
TZOFFSETFROM:-0400
TZOFFSETTO:-0500
TZNAME:EST
DTSTART:20251102T060000
END:STANDARD
BEGIN:DAYLIGHT
TZOFFSETFROM:-0500
TZOFFSETTO:-0400
TZNAME:EDT
DTSTART:20260308T070000
END:DAYLIGHT
BEGIN:STANDARD
TZOFFSETFROM:-0400
TZOFFSETTO:-0500
TZNAME:EST
DTSTART:20261101T060000
END:STANDARD
BEGIN:DAYLIGHT
TZOFFSETFROM:-0500
TZOFFSETTO:-0400
TZNAME:EDT
DTSTART:20270314T070000
END:DAYLIGHT
BEGIN:STANDARD
TZOFFSETFROM:-0400
TZOFFSETTO:-0500
TZNAME:EST
DTSTART:20271107T060000
END:STANDARD
END:VTIMEZONE
BEGIN:VEVENT
DTSTART;TZID=America/New_York:20260321T120000
DTEND;TZID=America/New_York:20260321T150000
DTSTAMP:20260422T003704
CREATED:20260217T200630Z
LAST-MODIFIED:20260316T134529Z
UID:15705-1774094400-1774105200@314beergarden.com
SUMMARY:314 Basketball Pong
DESCRIPTION:March Madness Basketball Pong at 314. \nGather your best pong partner and prepare for the ultimate March Madness showdown. \nOn March 21st from 12PM–3PM\, 314 Beer Garden is hosting a Basketball Pong Open Play featuring regular pong cups and mini basketballs for peak March Madness energy. \nTeams of 2. Free to enter. \nSpacecat Brewing is sponsoring the open play and will be on site launching and sampling their new beer\, Dos Gatos. \nBring your A-game. Bring your strategy. Bring your fans. March Madness at 314 just got interesting.
URL:https://314beergarden.com/event/314-basketball-pong/
LOCATION:314 Beer Garden\, 314 Wilson Ave.\, Norwalk\, CT\, 06854\, United States
CATEGORIES:Special Events,Trivia and Games
ATTACH;FMTTYPE=image/png:https://314beergarden.com/wp-content/uploads/2026/02/Basket-Pong-4.png
END:VEVENT
END:VCALENDAR