BEGIN:VCALENDAR
VERSION:2.0
PRODID:-//314 Beer Garden - ECPv6.15.20//NONSGML v1.0//EN
CALSCALE:GREGORIAN
METHOD:PUBLISH
X-WR-CALNAME:314 Beer Garden
X-ORIGINAL-URL:https://314beergarden.com
X-WR-CALDESC:Events for 314 Beer Garden
REFRESH-INTERVAL;VALUE=DURATION:PT1H
X-Robots-Tag:noindex
X-PUBLISHED-TTL:PT1H
BEGIN:VTIMEZONE
TZID:America/New_York
BEGIN:DAYLIGHT
TZOFFSETFROM:-0500
TZOFFSETTO:-0400
TZNAME:EDT
DTSTART:20250309T070000
END:DAYLIGHT
BEGIN:STANDARD
TZOFFSETFROM:-0400
TZOFFSETTO:-0500
TZNAME:EST
DTSTART:20251102T060000
END:STANDARD
BEGIN:DAYLIGHT
TZOFFSETFROM:-0500
TZOFFSETTO:-0400
TZNAME:EDT
DTSTART:20260308T070000
END:DAYLIGHT
BEGIN:STANDARD
TZOFFSETFROM:-0400
TZOFFSETTO:-0500
TZNAME:EST
DTSTART:20261101T060000
END:STANDARD
BEGIN:DAYLIGHT
TZOFFSETFROM:-0500
TZOFFSETTO:-0400
TZNAME:EDT
DTSTART:20270314T070000
END:DAYLIGHT
BEGIN:STANDARD
TZOFFSETFROM:-0400
TZOFFSETTO:-0500
TZNAME:EST
DTSTART:20271107T060000
END:STANDARD
END:VTIMEZONE
BEGIN:VEVENT
DTSTART;TZID=America/New_York:20260315T120000
DTEND;TZID=America/New_York:20260315T200000
DTSTAMP:20260422T003746
CREATED:20260203T174037Z
LAST-MODIFIED:20260303T162540Z
UID:15666-1773576000-1773604800@314beergarden.com
SUMMARY:314's Irish Jig Jam
DESCRIPTION:314 Beer Garden’s Irish Jig Jam is back and we’re turning the Garden into an all-day St. Patrick’s celebration on Sunday\, March 15 from 12 PM to 8 PM\, packed with live music\, dancing\, great food\, and family fun. \nWe’ll be serving corned beef pizza and stacked corned beef sandwiches all day while Guinness flows from the taps\, setting the tone for a proper Irish Sunday. \nKids can jump right into the fun starting at 12 PM with our build-your-own Leprechaun Hat craft station\, then show off their creations in a mini parade at 2 PM led by Lucky the Leprechaun. \nAt 1 PM\, enjoy two high-energy Irish dance performances from Harney Pender Keady Academy\, and listen for the bagpipes when Greenwich Pipe Band makes a special appearance at 2 PM. From 3 PM to 6 PM\, The Night Visitors takes the stage with live music to keep the party going. \nWhether you’re here for the pints\, the pizza\, the dancers\, or the parade\, Irish Jig Jam is a full day of good vibes for kids and adults alike. Come as you are\, wear your green\, and meet us at the Garden.
URL:https://314beergarden.com/event/314s-irish-jig-jam/
LOCATION:314 Beer Garden\, 314 Wilson Ave.\, Norwalk\, CT\, 06854\, United States
CATEGORIES:Bands,Special Events,Trivia and Games
ATTACH;FMTTYPE=image/webp:https://314beergarden.com/wp-content/uploads/2026/02/314-irish-jig-jam-st-patricks-698230da1d569.webp
END:VEVENT
END:VCALENDAR