BEGIN:VCALENDAR
VERSION:2.0
PRODID:-//314 Beer Garden - ECPv6.15.20//NONSGML v1.0//EN
CALSCALE:GREGORIAN
METHOD:PUBLISH
X-WR-CALNAME:314 Beer Garden
X-ORIGINAL-URL:https://314beergarden.com
X-WR-CALDESC:Events for 314 Beer Garden
REFRESH-INTERVAL;VALUE=DURATION:PT1H
X-Robots-Tag:noindex
X-PUBLISHED-TTL:PT1H
BEGIN:VTIMEZONE
TZID:America/New_York
BEGIN:DAYLIGHT
TZOFFSETFROM:-0500
TZOFFSETTO:-0400
TZNAME:EDT
DTSTART:20250309T070000
END:DAYLIGHT
BEGIN:STANDARD
TZOFFSETFROM:-0400
TZOFFSETTO:-0500
TZNAME:EST
DTSTART:20251102T060000
END:STANDARD
BEGIN:DAYLIGHT
TZOFFSETFROM:-0500
TZOFFSETTO:-0400
TZNAME:EDT
DTSTART:20260308T070000
END:DAYLIGHT
BEGIN:STANDARD
TZOFFSETFROM:-0400
TZOFFSETTO:-0500
TZNAME:EST
DTSTART:20261101T060000
END:STANDARD
BEGIN:DAYLIGHT
TZOFFSETFROM:-0500
TZOFFSETTO:-0400
TZNAME:EDT
DTSTART:20270314T070000
END:DAYLIGHT
BEGIN:STANDARD
TZOFFSETFROM:-0400
TZOFFSETTO:-0500
TZNAME:EST
DTSTART:20271107T060000
END:STANDARD
END:VTIMEZONE
BEGIN:VEVENT
DTSTART;TZID=America/New_York:20260314T120000
DTEND;TZID=America/New_York:20260314T180000
DTSTAMP:20260422T003709
CREATED:20260203T182243Z
LAST-MODIFIED:20260313T153921Z
UID:15672-1773489600-1773511200@314beergarden.com
SUMMARY:314 Pi Dash
DESCRIPTION:Join us on Saturday\, March 14th for the 314 Pi Dash\n3.14 miles on 3/14 at 314 Beer Garden. \nWe’re teaming up with CT Run Company (formerly Ridgefield & Darien Running Company) to celebrate Pi Day with a fun\, casual 3.14-mile run through the streets of SONO plus a full day of music\, food\, and good vibes. \nRegistration is FREE\nPlease RSVP here to save your spot: https://ctrunco.com/content/events \nAll registered runners receive:\n• 1 drink ticket\n• A branded 314 plastic cup \nWe’ll be running this 3.14-mile loop around SONO. Come early to demo Adidas running shoes. \nEvent Schedule \n12 PM – 2 PM\nKids Craft Station + Face Painting with Melissa \n12 PM – 6 PM\nDJ Gruvy \n2 PM\nRun Registration Opens \n2:45 PM\nAdidas Shoe Demo \n3:14 PM\n314 Pi Dash Run \n12 PM – 6 PM\nPi Day Specials\n$3.14 314 Pilsners\n$14 Large Cheese Pizzas \nSponsored by East Rock Brewing Company \nWhether you’re running\, dancing\, crafting with the kids\, or sipping a $3.14 pint\, it’s the perfect way to celebrate Pi Day with friends. \nAll paces welcome. No official pace leaders.\nDownload the route on Strava\, print it\, or sync it to your Garmin. \nCome as you are and bring the good vibes.
URL:https://314beergarden.com/event/314-pi-dash/
LOCATION:314 Beer Garden\, 314 Wilson Ave.\, Norwalk\, CT\, 06854\, United States
CATEGORIES:DJ,Special Events
ATTACH;FMTTYPE=image/png:https://314beergarden.com/wp-content/uploads/2026/02/3.14-Day.png
END:VEVENT
END:VCALENDAR