BEGIN:VCALENDAR
VERSION:2.0
PRODID:-//314 Beer Garden - ECPv6.15.20//NONSGML v1.0//EN
CALSCALE:GREGORIAN
METHOD:PUBLISH
X-WR-CALNAME:314 Beer Garden
X-ORIGINAL-URL:https://314beergarden.com
X-WR-CALDESC:Events for 314 Beer Garden
REFRESH-INTERVAL;VALUE=DURATION:PT1H
X-Robots-Tag:noindex
X-PUBLISHED-TTL:PT1H
BEGIN:VTIMEZONE
TZID:America/New_York
BEGIN:DAYLIGHT
TZOFFSETFROM:-0500
TZOFFSETTO:-0400
TZNAME:EDT
DTSTART:20250309T070000
END:DAYLIGHT
BEGIN:STANDARD
TZOFFSETFROM:-0400
TZOFFSETTO:-0500
TZNAME:EST
DTSTART:20251102T060000
END:STANDARD
BEGIN:DAYLIGHT
TZOFFSETFROM:-0500
TZOFFSETTO:-0400
TZNAME:EDT
DTSTART:20260308T070000
END:DAYLIGHT
BEGIN:STANDARD
TZOFFSETFROM:-0400
TZOFFSETTO:-0500
TZNAME:EST
DTSTART:20261101T060000
END:STANDARD
BEGIN:DAYLIGHT
TZOFFSETFROM:-0500
TZOFFSETTO:-0400
TZNAME:EDT
DTSTART:20270314T070000
END:DAYLIGHT
BEGIN:STANDARD
TZOFFSETFROM:-0400
TZOFFSETTO:-0500
TZNAME:EST
DTSTART:20271107T060000
END:STANDARD
END:VTIMEZONE
BEGIN:VEVENT
DTSTART;TZID=America/New_York:20260312T190000
DTEND;TZID=America/New_York:20260312T220000
DTSTAMP:20260422T003708
CREATED:20260226T171225Z
LAST-MODIFIED:20260226T171225Z
UID:15776-1773342000-1773352800@314beergarden.com
SUMMARY:Boots & Beats Line Dancing
DESCRIPTION:Boots & Beats Line Dancing is taking over the Nash room dance floor on Thursday 3/12 from 7p–10p and it’s going to happen monthly on the 2nd Thursday of the month. \nWe’ll kick things off with beginner-friendly instruction from Kaylee and Martha while Beats by Matt keep the floor moving. Learn the steps\, dance it out\, repeat all night. \nNo cover. No experience needed. Just show up\, grab a drink\, and jump in when you’re ready.
URL:https://314beergarden.com/event/boots-beats-line-dancing-2/
LOCATION:314 Beer Garden\, 314 Wilson Ave.\, Norwalk\, CT\, 06854\, United States
CATEGORIES:DJ,Special Events
ATTACH;FMTTYPE=image/png:https://314beergarden.com/wp-content/uploads/2026/02/Boots-Beats-1920-x-1080-px-2.png
END:VEVENT
END:VCALENDAR