BEGIN:VCALENDAR
VERSION:2.0
PRODID:-//314 Beer Garden - ECPv6.15.20//NONSGML v1.0//EN
CALSCALE:GREGORIAN
METHOD:PUBLISH
X-ORIGINAL-URL:https://314beergarden.com
X-WR-CALDESC:Events for 314 Beer Garden
REFRESH-INTERVAL;VALUE=DURATION:PT1H
X-Robots-Tag:noindex
X-PUBLISHED-TTL:PT1H
BEGIN:VTIMEZONE
TZID:America/New_York
BEGIN:DAYLIGHT
TZOFFSETFROM:-0500
TZOFFSETTO:-0400
TZNAME:EDT
DTSTART:20250309T070000
END:DAYLIGHT
BEGIN:STANDARD
TZOFFSETFROM:-0400
TZOFFSETTO:-0500
TZNAME:EST
DTSTART:20251102T060000
END:STANDARD
BEGIN:DAYLIGHT
TZOFFSETFROM:-0500
TZOFFSETTO:-0400
TZNAME:EDT
DTSTART:20260308T070000
END:DAYLIGHT
BEGIN:STANDARD
TZOFFSETFROM:-0400
TZOFFSETTO:-0500
TZNAME:EST
DTSTART:20261101T060000
END:STANDARD
BEGIN:DAYLIGHT
TZOFFSETFROM:-0500
TZOFFSETTO:-0400
TZNAME:EDT
DTSTART:20270314T070000
END:DAYLIGHT
BEGIN:STANDARD
TZOFFSETFROM:-0400
TZOFFSETTO:-0500
TZNAME:EST
DTSTART:20271107T060000
END:STANDARD
END:VTIMEZONE
BEGIN:VEVENT
DTSTART;TZID=America/New_York:20260305T190000
DTEND;TZID=America/New_York:20260305T220000
DTSTAMP:20260422T003904
CREATED:20260226T170941Z
LAST-MODIFIED:20260226T170941Z
UID:15773-1772737200-1772748000@314beergarden.com
SUMMARY:Karaoke with George
DESCRIPTION:Our very own lyrical gangsta is grabbing the mic and you’re not gonna want to miss it. \nKaraoke With George hits the 314 stage on Thursday\, March 5th from 7p to 10p and it’s gonna happen monthly on the first Thursday of the month. \nSing with him\, sing to him\, or just sit back and hear the legend himself do his thing. \nBasically\, it’s George’s world and we’re all just singing in it.
URL:https://314beergarden.com/event/karaoke-with-george-2/
LOCATION:314 Beer Garden\, 314 Wilson Ave.\, Norwalk\, CT\, 06854\, United States
CATEGORIES:Special Events
ATTACH;FMTTYPE=image/png:https://314beergarden.com/wp-content/uploads/2026/02/Karaoke-with-George-1920-x-1080-px.png
END:VEVENT
END:VCALENDAR