BEGIN:VCALENDAR
VERSION:2.0
PRODID:-//314 Beer Garden - ECPv6.15.20//NONSGML v1.0//EN
CALSCALE:GREGORIAN
METHOD:PUBLISH
X-WR-CALNAME:314 Beer Garden
X-ORIGINAL-URL:https://314beergarden.com
X-WR-CALDESC:Events for 314 Beer Garden
REFRESH-INTERVAL;VALUE=DURATION:PT1H
X-Robots-Tag:noindex
X-PUBLISHED-TTL:PT1H
BEGIN:VTIMEZONE
TZID:America/New_York
BEGIN:DAYLIGHT
TZOFFSETFROM:-0500
TZOFFSETTO:-0400
TZNAME:EDT
DTSTART:20250309T070000
END:DAYLIGHT
BEGIN:STANDARD
TZOFFSETFROM:-0400
TZOFFSETTO:-0500
TZNAME:EST
DTSTART:20251102T060000
END:STANDARD
BEGIN:DAYLIGHT
TZOFFSETFROM:-0500
TZOFFSETTO:-0400
TZNAME:EDT
DTSTART:20260308T070000
END:DAYLIGHT
BEGIN:STANDARD
TZOFFSETFROM:-0400
TZOFFSETTO:-0500
TZNAME:EST
DTSTART:20261101T060000
END:STANDARD
BEGIN:DAYLIGHT
TZOFFSETFROM:-0500
TZOFFSETTO:-0400
TZNAME:EDT
DTSTART:20270314T070000
END:DAYLIGHT
BEGIN:STANDARD
TZOFFSETFROM:-0400
TZOFFSETTO:-0500
TZNAME:EST
DTSTART:20271107T060000
END:STANDARD
END:VTIMEZONE
BEGIN:VEVENT
DTSTART;TZID=America/New_York:20260129T180000
DTEND;TZID=America/New_York:20260129T210000
DTSTAMP:20260422T023927
CREATED:20251230T174832Z
LAST-MODIFIED:20251230T174832Z
UID:15320-1769709600-1769720400@314beergarden.com
SUMMARY:Piece by Piece - A 500 Piece Puzzle Competition
DESCRIPTION:Piece by Piece is taking over 314 for National Puzzle Day on Thursday 1/29/26. Grab your sharpest friends and get ready for a 500-piece puzzle competition where every team gets the exact same puzzle and the clock is very real. \nTeams are 3–4 players only\, with about 1.5–3 hours to finish. Entry is $50 for a team of 3 or $60 for a team of 4\, and includes one drink per person because puzzles are better with beverages. Fastest team to finish takes the win. \nPrizes are no joke: first place scores $250 in gift cards (split between the team)\, second gets $100\, and third takes home $50. Whether you are here to dominate or just aggressively debate edge pieces\, expect competitive energy\, good drinks\, and all the 314 vibes. \nTicket Link: https://www.eventbrite.com/e/piece-by-piece-tickets-1979320780737?aff=oddtdtcreator \n 
URL:https://314beergarden.com/event/piece-by-piece-a-500-piece-puzzle-competition/
LOCATION:314 Beer Garden\, 314 Wilson Ave.\, Norwalk\, CT\, 06854\, United States
CATEGORIES:Special Events,Trivia and Games
ATTACH;FMTTYPE=image/png:https://314beergarden.com/wp-content/uploads/2025/12/PUZZLE-PIECE-BY-PIECE-314-SQUARE-1920-x-1080-px-1.png
END:VEVENT
END:VCALENDAR