BEGIN:VCALENDAR
VERSION:2.0
PRODID:-//314 Beer Garden - ECPv6.15.20//NONSGML v1.0//EN
CALSCALE:GREGORIAN
METHOD:PUBLISH
X-ORIGINAL-URL:https://314beergarden.com
X-WR-CALDESC:Events for 314 Beer Garden
REFRESH-INTERVAL;VALUE=DURATION:PT1H
X-Robots-Tag:noindex
X-PUBLISHED-TTL:PT1H
BEGIN:VTIMEZONE
TZID:America/New_York
BEGIN:DAYLIGHT
TZOFFSETFROM:-0500
TZOFFSETTO:-0400
TZNAME:EDT
DTSTART:20240310T070000
END:DAYLIGHT
BEGIN:STANDARD
TZOFFSETFROM:-0400
TZOFFSETTO:-0500
TZNAME:EST
DTSTART:20241103T060000
END:STANDARD
BEGIN:DAYLIGHT
TZOFFSETFROM:-0500
TZOFFSETTO:-0400
TZNAME:EDT
DTSTART:20250309T070000
END:DAYLIGHT
BEGIN:STANDARD
TZOFFSETFROM:-0400
TZOFFSETTO:-0500
TZNAME:EST
DTSTART:20251102T060000
END:STANDARD
BEGIN:DAYLIGHT
TZOFFSETFROM:-0500
TZOFFSETTO:-0400
TZNAME:EDT
DTSTART:20260308T070000
END:DAYLIGHT
BEGIN:STANDARD
TZOFFSETFROM:-0400
TZOFFSETTO:-0500
TZNAME:EST
DTSTART:20261101T060000
END:STANDARD
END:VTIMEZONE
BEGIN:VEVENT
DTSTART;TZID=America/New_York:20251129T180000
DTEND;TZID=America/New_York:20251129T230000
DTSTAMP:20260422T083301
CREATED:20251104T162322Z
LAST-MODIFIED:20251104T162322Z
UID:15114-1764439200-1764457200@314beergarden.com
SUMMARY:Get Lit Party
DESCRIPTION:Get Lit returns Saturday\, November 29th from 6p-11p! \nGiant tree lighting at 6p \nDJ Gruvy Hospitality spinning festive beats all night \nUgly Sweater Contest at 9:30p ($250 gift card for the winner) \nPlus\, a surprise visit from the Grinch! \nThe holidays are here. Come Get Lit with us!
URL:https://314beergarden.com/event/get-lit-party/
LOCATION:314 Beer Garden\, 314 Wilson Ave.\, Norwalk\, CT\, 06854\, United States
CATEGORIES:DJ,Special Events
ATTACH;FMTTYPE=image/jpeg:https://314beergarden.com/wp-content/uploads/2025/11/Get-lit-1920-x-1080-px.jpg
END:VEVENT
END:VCALENDAR