BEGIN:VCALENDAR
VERSION:2.0
PRODID:-//314 Beer Garden - ECPv6.15.20//NONSGML v1.0//EN
CALSCALE:GREGORIAN
METHOD:PUBLISH
X-WR-CALNAME:314 Beer Garden
X-ORIGINAL-URL:https://314beergarden.com
X-WR-CALDESC:Events for 314 Beer Garden
REFRESH-INTERVAL;VALUE=DURATION:PT1H
X-Robots-Tag:noindex
X-PUBLISHED-TTL:PT1H
BEGIN:VTIMEZONE
TZID:America/New_York
BEGIN:DAYLIGHT
TZOFFSETFROM:-0500
TZOFFSETTO:-0400
TZNAME:EDT
DTSTART:20240310T070000
END:DAYLIGHT
BEGIN:STANDARD
TZOFFSETFROM:-0400
TZOFFSETTO:-0500
TZNAME:EST
DTSTART:20241103T060000
END:STANDARD
BEGIN:DAYLIGHT
TZOFFSETFROM:-0500
TZOFFSETTO:-0400
TZNAME:EDT
DTSTART:20250309T070000
END:DAYLIGHT
BEGIN:STANDARD
TZOFFSETFROM:-0400
TZOFFSETTO:-0500
TZNAME:EST
DTSTART:20251102T060000
END:STANDARD
BEGIN:DAYLIGHT
TZOFFSETFROM:-0500
TZOFFSETTO:-0400
TZNAME:EDT
DTSTART:20260308T070000
END:DAYLIGHT
BEGIN:STANDARD
TZOFFSETFROM:-0400
TZOFFSETTO:-0500
TZNAME:EST
DTSTART:20261101T060000
END:STANDARD
END:VTIMEZONE
BEGIN:VEVENT
DTSTART;TZID=America/New_York:20251123T130000
DTEND;TZID=America/New_York:20251123T150000
DTSTAMP:20260422T171032
CREATED:20251028T202505Z
LAST-MODIFIED:20251028T202843Z
UID:15083-1763902800-1763910000@314beergarden.com
SUMMARY:S'moresgiving with Olaf
DESCRIPTION:Join us for a magical day of s’mores and fun with everyone’s favorite snowman\, Olaf on November 23rd from 1-3pm! This special kids’ event is sure to warm your heart and create wonderful memories. \nMeet and greet\, play games\, and roast marshmallows with Olaf\, the lovable snowman from Disney’s Frozen. Bring your cameras for memorable photos. \nEvent is free. S’more kits available for purchase at the bar or ask your server. \nDon’t miss out on this wonderful opportunity to make magical memories with your little ones. Mark your calendar and be part of S’mores with Olaf. It’s a family-friendly event you won’t want to miss!
URL:https://314beergarden.com/event/15083/
LOCATION:314 Beer Garden\, 314 Wilson Ave.\, Norwalk\, CT\, 06854\, United States
CATEGORIES:Special Events
ATTACH;FMTTYPE=image/jpeg:https://314beergarden.com/wp-content/uploads/2025/10/Smores-with-Olaf-1920-x-1080-px.jpg
END:VEVENT
END:VCALENDAR