BEGIN:VCALENDAR
VERSION:2.0
PRODID:-//314 Beer Garden - ECPv6.15.20//NONSGML v1.0//EN
CALSCALE:GREGORIAN
METHOD:PUBLISH
X-WR-CALNAME:314 Beer Garden
X-ORIGINAL-URL:https://314beergarden.com
X-WR-CALDESC:Events for 314 Beer Garden
REFRESH-INTERVAL;VALUE=DURATION:PT1H
X-Robots-Tag:noindex
X-PUBLISHED-TTL:PT1H
BEGIN:VTIMEZONE
TZID:America/New_York
BEGIN:DAYLIGHT
TZOFFSETFROM:-0500
TZOFFSETTO:-0400
TZNAME:EDT
DTSTART:20240310T070000
END:DAYLIGHT
BEGIN:STANDARD
TZOFFSETFROM:-0400
TZOFFSETTO:-0500
TZNAME:EST
DTSTART:20241103T060000
END:STANDARD
BEGIN:DAYLIGHT
TZOFFSETFROM:-0500
TZOFFSETTO:-0400
TZNAME:EDT
DTSTART:20250309T070000
END:DAYLIGHT
BEGIN:STANDARD
TZOFFSETFROM:-0400
TZOFFSETTO:-0500
TZNAME:EST
DTSTART:20251102T060000
END:STANDARD
BEGIN:DAYLIGHT
TZOFFSETFROM:-0500
TZOFFSETTO:-0400
TZNAME:EDT
DTSTART:20260308T070000
END:DAYLIGHT
BEGIN:STANDARD
TZOFFSETFROM:-0400
TZOFFSETTO:-0500
TZNAME:EST
DTSTART:20261101T060000
END:STANDARD
END:VTIMEZONE
BEGIN:VEVENT
DTSTART;TZID=America/New_York:20251119T183000
DTEND;TZID=America/New_York:20251119T194500
DTSTAMP:20260422T234604
CREATED:20251010T153142Z
LAST-MODIFIED:20251103T192732Z
UID:15062-1763577000-1763581500@314beergarden.com
SUMMARY:Succulent Birch Log Candle Arrangement Workshop
DESCRIPTION:Create a warm and inviting arrangement in this hands-on workshop\, where nature meets elegance. Using a rustic birch log as the foundation\, you’ll design a beautiful arrangement adorned with bare-rooted succulents\, preserved florals\, and lush mosses. To complete the look\, a candle will be added\, making this arrangement perfect for illuminating your home. \nGuided by Elissa of Imaginariums by Elissa\, plant stylist and educator\, you’ll enjoy step-by-step instruction\, plant care tips\, and will learn how to easily refresh your centerpiece with festive accents to carry throughout the holiday season. Register today and enjoy a fun night out. \nTicket Link: https://www.imaginariumsbyelissa.com/event-details/succulents-on-birch-a-living-candle-arrangement-1 \nNovember 19th from 6:30-7:45 \nFee: $ 55.00 First drink included in price.
URL:https://314beergarden.com/event/succulent-birch-log-candle-arrangement-workshop/
LOCATION:314 Beer Garden\, 314 Wilson Ave.\, Norwalk\, CT\, 06854\, United States
CATEGORIES:Special Events
ATTACH;FMTTYPE=image/jpeg:https://314beergarden.com/wp-content/uploads/2025/10/Birch-Log-candle-class-1920-x-1080-px-3.jpg
END:VEVENT
END:VCALENDAR