BEGIN:VCALENDAR
VERSION:2.0
PRODID:-//314 Beer Garden - ECPv6.15.20//NONSGML v1.0//EN
CALSCALE:GREGORIAN
METHOD:PUBLISH
X-WR-CALNAME:314 Beer Garden
X-ORIGINAL-URL:https://314beergarden.com
X-WR-CALDESC:Events for 314 Beer Garden
REFRESH-INTERVAL;VALUE=DURATION:PT1H
X-Robots-Tag:noindex
X-PUBLISHED-TTL:PT1H
BEGIN:VTIMEZONE
TZID:America/New_York
BEGIN:DAYLIGHT
TZOFFSETFROM:-0500
TZOFFSETTO:-0400
TZNAME:EDT
DTSTART:20240310T070000
END:DAYLIGHT
BEGIN:STANDARD
TZOFFSETFROM:-0400
TZOFFSETTO:-0500
TZNAME:EST
DTSTART:20241103T060000
END:STANDARD
BEGIN:DAYLIGHT
TZOFFSETFROM:-0500
TZOFFSETTO:-0400
TZNAME:EDT
DTSTART:20250309T070000
END:DAYLIGHT
BEGIN:STANDARD
TZOFFSETFROM:-0400
TZOFFSETTO:-0500
TZNAME:EST
DTSTART:20251102T060000
END:STANDARD
BEGIN:DAYLIGHT
TZOFFSETFROM:-0500
TZOFFSETTO:-0400
TZNAME:EDT
DTSTART:20260308T070000
END:DAYLIGHT
BEGIN:STANDARD
TZOFFSETFROM:-0400
TZOFFSETTO:-0500
TZNAME:EST
DTSTART:20261101T060000
END:STANDARD
END:VTIMEZONE
BEGIN:VEVENT
DTSTART;TZID=America/New_York:20251109T130000
DTEND;TZID=America/New_York:20251109T180000
DTSTAMP:20260425T143213
CREATED:20251022T173101Z
LAST-MODIFIED:20251022T173605Z
UID:15070-1762693200-1762711200@314beergarden.com
SUMMARY:The Restaurant Hive Food Drive Party ft. Ian Biggs
DESCRIPTION:Eat. Drink. Give back. \nJoin us Sunday\, November 9th from 1p-6p at 314 Beer Garden for The Restaurant Hive Food Drive Party! \nLive Music by Ian Biggs from 1p-4p\, plus raffles\, silent and live auctions – all to help Norwalk Families in need this holiday season. \nAnd before the event\, you can help by grabbing $10 raffle tickets or a $100 Restaurant Hive Passport Book packed with restaurant discounts – every dollar helps feed local families. \nParticipating Restaurants: \n314 Beer Garden. BJ Ryan’s. BJ Ryan’s BanC House. BJ Ryan’s East. Washington Prime. O’Neill’s Pub & Restaurant. The Spread. Magic 5 Pie Co. El Segundo. The Blind Rhino. Coals Pizza. Dave & Charlies Hometown Deli. Planet Pizza Norwalk.
URL:https://314beergarden.com/event/the-restaurant-hive-food-drive-party-ft-ian-biggs/
LOCATION:314 Beer Garden\, 314 Wilson Ave.\, Norwalk\, CT\, 06854\, United States
CATEGORIES:Bands,Special Events
ATTACH;FMTTYPE=image/jpeg:https://314beergarden.com/wp-content/uploads/2025/10/Hive-2025-1920-x-1080-px-1.jpg
END:VEVENT
END:VCALENDAR