BEGIN:VCALENDAR
VERSION:2.0
PRODID:-//314 Beer Garden - ECPv6.15.20//NONSGML v1.0//EN
CALSCALE:GREGORIAN
METHOD:PUBLISH
X-WR-CALNAME:314 Beer Garden
X-ORIGINAL-URL:https://314beergarden.com
X-WR-CALDESC:Events for 314 Beer Garden
REFRESH-INTERVAL;VALUE=DURATION:PT1H
X-Robots-Tag:noindex
X-PUBLISHED-TTL:PT1H
BEGIN:VTIMEZONE
TZID:America/New_York
BEGIN:DAYLIGHT
TZOFFSETFROM:-0500
TZOFFSETTO:-0400
TZNAME:EDT
DTSTART:20250309T070000
END:DAYLIGHT
BEGIN:STANDARD
TZOFFSETFROM:-0400
TZOFFSETTO:-0500
TZNAME:EST
DTSTART:20251102T060000
END:STANDARD
BEGIN:DAYLIGHT
TZOFFSETFROM:-0500
TZOFFSETTO:-0400
TZNAME:EDT
DTSTART:20260308T070000
END:DAYLIGHT
BEGIN:STANDARD
TZOFFSETFROM:-0400
TZOFFSETTO:-0500
TZNAME:EST
DTSTART:20261101T060000
END:STANDARD
BEGIN:DAYLIGHT
TZOFFSETFROM:-0500
TZOFFSETTO:-0400
TZNAME:EDT
DTSTART:20270314T070000
END:DAYLIGHT
BEGIN:STANDARD
TZOFFSETFROM:-0400
TZOFFSETTO:-0500
TZNAME:EST
DTSTART:20271107T060000
END:STANDARD
END:VTIMEZONE
BEGIN:VEVENT
DTSTART;TZID=America/New_York:20260206T190000
DTEND;TZID=America/New_York:20260206T220000
DTSTAMP:20260422T005617
CREATED:20260126T203950Z
LAST-MODIFIED:20260126T210344Z
UID:15454-1770404400-1770415200@314beergarden.com
SUMMARY:Boots & Beats Line Dancing
DESCRIPTION:Boots & Beats Line Dancing is taking over the Nash room dance floor on Friday 2/6 from 7p–10p. \nWe’ll kick things off with beginner-friendly instruction from Kaylee while Beats by Matt keep the floor moving. Learn the steps\, dance it out\, repeat all night. \nNo cover. No experience needed. Just show up\, grab a drink\, and jump in when you’re ready.
URL:https://314beergarden.com/event/boots-beats-line-dancing/
LOCATION:314 Beer Garden\, 314 Wilson Ave.\, Norwalk\, CT\, 06854\, United States
CATEGORIES:DJ,Special Events
ATTACH;FMTTYPE=image/png:https://314beergarden.com/wp-content/uploads/2026/01/Boots-and-Beats-Line-Dancing.png
END:VEVENT
BEGIN:VEVENT
DTSTART;TZID=America/New_York:20260208T160000
DTEND;TZID=America/New_York:20260208T230000
DTSTAMP:20260422T005617
CREATED:20260203T183418Z
LAST-MODIFIED:20260203T183418Z
UID:15675-1770566400-1770591600@314beergarden.com
SUMMARY:Laces Out: Super Sunday at 314
DESCRIPTION:It’s that time of year. The BIG GAME is here. 314 Beer Garden is throwing Laces Out: Super Sunday and you do not want to miss it. Think big screens\, rowdy excitement\, and deals worthy of the showdown itself. Kickoff: 6:30 pm \nWe’re rolling out happy hour all day\, because who doesn’t want great drinks before the first quarter even starts? In honor of National Pizza Day\, we’re serving up $8 cheese pizzas all day long (yes\, really). Plus\, grab $20 buckets of Budweiser\, Bud Light\, and Michelob Ultra to keep the party rolling. \nWatch the big game on our giant screens. Whether your team wins or does an Ace Ventura “Alrighty then” recovery in the fourth quarter\, we’ve got your sidelines covered. \nAsk about our catering menu for your crew. Let’s make this Super Sunday one for the books.
URL:https://314beergarden.com/event/laces-out-super-sunday-at-314/
LOCATION:314 Beer Garden\, 314 Wilson Ave.\, Norwalk\, CT\, 06854\, United States
CATEGORIES:Special Events,Trivia and Games
ATTACH;FMTTYPE=image/png:https://314beergarden.com/wp-content/uploads/2026/02/Laces-Out-2026.png
END:VEVENT
BEGIN:VEVENT
DTSTART;TZID=America/New_York:20260214T190000
DTEND;TZID=America/New_York:20260214T230000
DTSTAMP:20260422T005617
CREATED:20260105T160638Z
LAST-MODIFIED:20260105T160638Z
UID:15375-1771095600-1771110000@314beergarden.com
SUMMARY:Breakups & Bangers: An Emo Valentine's Party
DESCRIPTION:Breakups and Bangers: An Emo Valentine’s Party is for the brokenhearted\, the happily single\, the situationships\, and anyone who still knows every word to the chorus. \nFrom 7–11p\, Catskill Emo Night is taking over with emo hits all night long. Expect big feelings\, louder sing-alongs\, and the kind of nostalgia that hits you right in the chest. \nWear black\, scream the lyrics\, and celebrate Valentine’s Day your way—no roses required.
URL:https://314beergarden.com/event/breakups-bangers-an-emo-valentines-party/
LOCATION:314 Beer Garden\, 314 Wilson Ave.\, Norwalk\, CT\, 06854\, United States
CATEGORIES:DJ,Special Events
ATTACH;FMTTYPE=image/png:https://314beergarden.com/wp-content/uploads/2026/01/breakups-and-bangers-emo-night-at-314.png
END:VEVENT
BEGIN:VEVENT
DTSTART;TZID=America/New_York:20260220T190000
DTEND;TZID=America/New_York:20260220T220000
DTSTAMP:20260422T005617
CREATED:20260113T174524Z
LAST-MODIFIED:20260203T164301Z
UID:15386-1771614000-1771624800@314beergarden.com
SUMMARY:Dueling Pianos featuring The Flying Ivories
DESCRIPTION:Dueling Pianos! \nIt’s not a concert. It’s a piano throwdown. \nTwo pianos. Two performers. One high-energy\, sing-along\, clap-along\, request-fueled night. \nDueling Pianos featuring the Flying Ivories takes over the Nash Room at 314 on Friday 2/20 from 7p–10p. You make the requests\, they bring the heat. From throwback anthems to guilty pleasures\, nothing is off limits. \nWarm up your vocal cords\, grab a drink\, and get ready to be part of the show.
URL:https://314beergarden.com/event/dueling-pianos-featuring-the-flying-ivories/
LOCATION:314 Beer Garden\, 314 Wilson Ave.\, Norwalk\, CT\, 06854\, United States
CATEGORIES:Special Events
ATTACH;FMTTYPE=image/png:https://314beergarden.com/wp-content/uploads/2026/01/Untitled-design-7.png
END:VEVENT
END:VCALENDAR