BEGIN:VCALENDAR
VERSION:2.0
PRODID:-//314 Beer Garden - ECPv6.15.20//NONSGML v1.0//EN
CALSCALE:GREGORIAN
METHOD:PUBLISH
X-WR-CALNAME:314 Beer Garden
X-ORIGINAL-URL:https://314beergarden.com
X-WR-CALDESC:Events for 314 Beer Garden
REFRESH-INTERVAL;VALUE=DURATION:PT1H
X-Robots-Tag:noindex
X-PUBLISHED-TTL:PT1H
BEGIN:VTIMEZONE
TZID:America/New_York
BEGIN:DAYLIGHT
TZOFFSETFROM:-0500
TZOFFSETTO:-0400
TZNAME:EDT
DTSTART:20250309T070000
END:DAYLIGHT
BEGIN:STANDARD
TZOFFSETFROM:-0400
TZOFFSETTO:-0500
TZNAME:EST
DTSTART:20251102T060000
END:STANDARD
BEGIN:DAYLIGHT
TZOFFSETFROM:-0500
TZOFFSETTO:-0400
TZNAME:EDT
DTSTART:20260308T070000
END:DAYLIGHT
BEGIN:STANDARD
TZOFFSETFROM:-0400
TZOFFSETTO:-0500
TZNAME:EST
DTSTART:20261101T060000
END:STANDARD
BEGIN:DAYLIGHT
TZOFFSETFROM:-0500
TZOFFSETTO:-0400
TZNAME:EDT
DTSTART:20270314T070000
END:DAYLIGHT
BEGIN:STANDARD
TZOFFSETFROM:-0400
TZOFFSETTO:-0500
TZNAME:EST
DTSTART:20271107T060000
END:STANDARD
END:VTIMEZONE
BEGIN:VEVENT
DTSTART;TZID=America/New_York:20260501T193000
DTEND;TZID=America/New_York:20260501T223000
DTSTAMP:20260421T145549
CREATED:20251201T200022Z
LAST-MODIFIED:20260402T120610Z
UID:15187-1777663800-1777674600@314beergarden.com
SUMMARY:Mind The Gap | Live at 314 Beer Garden | Live Music Norwalk
DESCRIPTION:Mind the Gap are based out of New Canaan and have been playing around Fairfield County and New York since 2014. They are one of the most entertaining party bands in CT\, and two – time winners of the prestigious Gates Restaurant Battle of the Bands competition in New Canaan – in both 2023 and 2019. \nThey have also won Best Local Rock Band in the Best of the Gold Coast Awards 2016. In 2017 they scooped the awards for both Best Rock Band and Best Covers Band. In 2018 they were runners up in 95.9 The Fox’s Classic Rock Cover Battle\, and in 2022 they were runners up in the Gates Battle of the Bands\, but reclaimed their crown as winners this year! \nThey are Peter Ditlevesen – Bass\, Arthur Zinn – Vocals and Rhythm Guitar \, Drew Lavyne – Lead Guitar\, Graham Lampen – Drums\, and Chaz Lampen – Keys. Charlie is Graham’s 18 year old son and is studying at Fordham University in NYC\, but travels back for our gigs from time to time. Their website is www.mindthegap.rocks
URL:https://314beergarden.com/event/mind-the-gap-live-at-314-beer-garden-live-music-norwalk/
LOCATION:314 Beer Garden\, 314 Wilson Ave.\, Norwalk\, CT\, 06854\, United States
CATEGORIES:Bands
ATTACH;FMTTYPE=image/png:https://314beergarden.com/wp-content/uploads/2025/12/Mind-the-Gap-7.png
END:VEVENT
END:VCALENDAR