BEGIN:VCALENDAR
VERSION:2.0
PRODID:-//314 Beer Garden - ECPv6.15.20//NONSGML v1.0//EN
CALSCALE:GREGORIAN
METHOD:PUBLISH
X-ORIGINAL-URL:https://314beergarden.com
X-WR-CALDESC:Events for 314 Beer Garden
REFRESH-INTERVAL;VALUE=DURATION:PT1H
X-Robots-Tag:noindex
X-PUBLISHED-TTL:PT1H
BEGIN:VTIMEZONE
TZID:America/New_York
BEGIN:DAYLIGHT
TZOFFSETFROM:-0500
TZOFFSETTO:-0400
TZNAME:EDT
DTSTART:20250309T070000
END:DAYLIGHT
BEGIN:STANDARD
TZOFFSETFROM:-0400
TZOFFSETTO:-0500
TZNAME:EST
DTSTART:20251102T060000
END:STANDARD
BEGIN:DAYLIGHT
TZOFFSETFROM:-0500
TZOFFSETTO:-0400
TZNAME:EDT
DTSTART:20260308T070000
END:DAYLIGHT
BEGIN:STANDARD
TZOFFSETFROM:-0400
TZOFFSETTO:-0500
TZNAME:EST
DTSTART:20261101T060000
END:STANDARD
BEGIN:DAYLIGHT
TZOFFSETFROM:-0500
TZOFFSETTO:-0400
TZNAME:EDT
DTSTART:20270314T070000
END:DAYLIGHT
BEGIN:STANDARD
TZOFFSETFROM:-0400
TZOFFSETTO:-0500
TZNAME:EST
DTSTART:20271107T060000
END:STANDARD
END:VTIMEZONE
BEGIN:VEVENT
DTSTART;TZID=America/New_York:20260425T190000
DTEND;TZID=America/New_York:20260425T230000
DTSTAMP:20260421T145723
CREATED:20260309T184006Z
LAST-MODIFIED:20260309T184006Z
UID:15884-1777143600-1777158000@314beergarden.com
SUMMARY:Core | Live at 314 Beer Garden | Live Music Norwalk
DESCRIPTION:Core is a powerhouse alternative rock cover band that pays homage to the gritty and influential sound of 1990s grunge. With their raw energy and authentic renditions of iconic hits by bands like Nirvana\, Pearl Jam\, and Alice in Chains\, Core brings the spirit of the grunge era back to life. Get ready to dive into the mosh pit of nostalgia and rock out with Core’s electrifying performances that capture the essence of ’90s alternative rock.
URL:https://314beergarden.com/event/core-live-at-314-beer-garden-live-music-norwalk/
LOCATION:314 Beer Garden\, 314 Wilson Ave.\, Norwalk\, CT\, 06854\, United States
CATEGORIES:Bands
ATTACH;FMTTYPE=image/png:https://314beergarden.com/wp-content/uploads/2026/03/Core-2.png
END:VEVENT
END:VCALENDAR