BEGIN:VCALENDAR
VERSION:2.0
PRODID:-//314 Beer Garden - ECPv6.15.20//NONSGML v1.0//EN
CALSCALE:GREGORIAN
METHOD:PUBLISH
X-WR-CALNAME:314 Beer Garden
X-ORIGINAL-URL:https://314beergarden.com
X-WR-CALDESC:Events for 314 Beer Garden
REFRESH-INTERVAL;VALUE=DURATION:PT1H
X-Robots-Tag:noindex
X-PUBLISHED-TTL:PT1H
BEGIN:VTIMEZONE
TZID:America/New_York
BEGIN:DAYLIGHT
TZOFFSETFROM:-0500
TZOFFSETTO:-0400
TZNAME:EDT
DTSTART:20250309T070000
END:DAYLIGHT
BEGIN:STANDARD
TZOFFSETFROM:-0400
TZOFFSETTO:-0500
TZNAME:EST
DTSTART:20251102T060000
END:STANDARD
BEGIN:DAYLIGHT
TZOFFSETFROM:-0500
TZOFFSETTO:-0400
TZNAME:EDT
DTSTART:20260308T070000
END:DAYLIGHT
BEGIN:STANDARD
TZOFFSETFROM:-0400
TZOFFSETTO:-0500
TZNAME:EST
DTSTART:20261101T060000
END:STANDARD
BEGIN:DAYLIGHT
TZOFFSETFROM:-0500
TZOFFSETTO:-0400
TZNAME:EDT
DTSTART:20270314T070000
END:DAYLIGHT
BEGIN:STANDARD
TZOFFSETFROM:-0400
TZOFFSETTO:-0500
TZNAME:EST
DTSTART:20271107T060000
END:STANDARD
END:VTIMEZONE
BEGIN:VEVENT
DTSTART;TZID=America/New_York:20260327T193000
DTEND;TZID=America/New_York:20260327T223000
DTSTAMP:20260421T210009
CREATED:20260217T183801Z
LAST-MODIFIED:20260217T183801Z
UID:15699-1774639800-1774650600@314beergarden.com
SUMMARY:Jukebox Radio
DESCRIPTION:Jukebox Radio – 7:30p–10:30p\, bringing you a nonstop mix of chart-toppers and throwback jams. \nFrom Bruno Mars to Bon Jovi\, Dua Lipa to Stevie Wonder\, Jukebox Radio delivers everything from high-energy hits to intimate vibes. \nWhether you’re singing along\, lighting up the dance floor\, or just vibing with your crew\, Jukebox Radio is your live\, loud\, and personal party playlist. \nSample setlist: Uptown Funk\, Enter Sandman\, Valerie\, Pour Some Sugar\, I Had Some Help\, Superstition\, Tennessee Whiskey… and more party anthems to keep the fireworks going! \n 
URL:https://314beergarden.com/event/jukebox-radio-5/
LOCATION:314 Beer Garden\, 314 Wilson Ave.\, Norwalk\, CT\, 06854\, United States
CATEGORIES:Bands
ATTACH;FMTTYPE=image/png:https://314beergarden.com/wp-content/uploads/2026/02/Jukebox-Radio-2.png
END:VEVENT
END:VCALENDAR