BEGIN:VCALENDAR
VERSION:2.0
PRODID:-//314 Beer Garden - ECPv6.15.20//NONSGML v1.0//EN
CALSCALE:GREGORIAN
METHOD:PUBLISH
X-ORIGINAL-URL:https://314beergarden.com
X-WR-CALDESC:Events for 314 Beer Garden
REFRESH-INTERVAL;VALUE=DURATION:PT1H
X-Robots-Tag:noindex
X-PUBLISHED-TTL:PT1H
BEGIN:VTIMEZONE
TZID:America/New_York
BEGIN:DAYLIGHT
TZOFFSETFROM:-0500
TZOFFSETTO:-0400
TZNAME:EDT
DTSTART:20240310T070000
END:DAYLIGHT
BEGIN:STANDARD
TZOFFSETFROM:-0400
TZOFFSETTO:-0500
TZNAME:EST
DTSTART:20241103T060000
END:STANDARD
BEGIN:DAYLIGHT
TZOFFSETFROM:-0500
TZOFFSETTO:-0400
TZNAME:EDT
DTSTART:20250309T070000
END:DAYLIGHT
BEGIN:STANDARD
TZOFFSETFROM:-0400
TZOFFSETTO:-0500
TZNAME:EST
DTSTART:20251102T060000
END:STANDARD
BEGIN:DAYLIGHT
TZOFFSETFROM:-0500
TZOFFSETTO:-0400
TZNAME:EDT
DTSTART:20260308T070000
END:DAYLIGHT
BEGIN:STANDARD
TZOFFSETFROM:-0400
TZOFFSETTO:-0500
TZNAME:EST
DTSTART:20261101T060000
END:STANDARD
END:VTIMEZONE
BEGIN:VEVENT
DTSTART;TZID=America/New_York:20250826T170000
DTEND;TZID=America/New_York:20250826T200000
DTSTAMP:20260421T100802
CREATED:20250802T165924Z
LAST-MODIFIED:20250802T165924Z
UID:14790-1756227600-1756238400@314beergarden.com
SUMMARY:Yappy Hour - Fundraiser for PAWS
DESCRIPTION:Join us for Yappy Hour on August 26th from 5p-8p!\n\nP.A.W.S. (Pet Animal Welfare Society) will be here with some adorable adoptable pups looking for their furever homes.\nPlus\, we will be donating $1 for every draft beer sold during Yappy Hour to them!\n\n\n\nVendors:\n\n\n\nTHESEWQUEEN.com\n\nDog Bandanas\n\n\nZoomin Groomin\nA stress-free mobile dog grooming right to your door. Your pet receives one-on-one attention—never crated\, never caged—and we use eco-friendly products for a safe\, gentle experience. No more hassle with drop-offs and pick-ups. We treat pets like family\, focusing on comfort\, care\, and quality to help them look and feel their best. Serving Fairfield County.\n\nMedVet\n24 hour Emergency Veterinary & Specialty Care. They will be here with pupcups and swag!\n\n\nHope to see you and your doggie here!
URL:https://314beergarden.com/event/yappy-hour-fundraiser-for-paws/
LOCATION:314 Beer Garden\, 314 Wilson Ave.\, Norwalk\, CT\, 06854\, United States
CATEGORIES:Special Events
ATTACH;FMTTYPE=image/jpeg:https://314beergarden.com/wp-content/uploads/2025/08/Aug-Yappy-1920-x-1080-px.jpg
END:VEVENT
END:VCALENDAR